BEGIN:VCALENDAR
VERSION:2.0
PRODID:-//Grand café de Schans - ECPv6.15.13.1//NONSGML v1.0//EN
CALSCALE:GREGORIAN
METHOD:PUBLISH
X-ORIGINAL-URL:https://deschans-stavoren.nl
X-WR-CALDESC:Evenementen voor Grand café de Schans
REFRESH-INTERVAL;VALUE=DURATION:PT1H
X-Robots-Tag:noindex
X-PUBLISHED-TTL:PT1H
BEGIN:VTIMEZONE
TZID:UTC
BEGIN:STANDARD
TZOFFSETFROM:+0000
TZOFFSETTO:+0000
TZNAME:UTC
DTSTART:20240101T000000
END:STANDARD
END:VTIMEZONE
BEGIN:VEVENT
DTSTART;TZID=UTC:20250208T160000
DTEND;TZID=UTC:20250308T020000
DTSTAMP:20260423T042343
CREATED:20240719T092418Z
LAST-MODIFIED:20250707T180455Z
UID:1025-1739030400-1741399200@deschans-stavoren.nl
SUMMARY:Skutsjesilen Stavoren
DESCRIPTION:Zaterdag 2 augustus Skûtsjesilen Stavoren. \nOp deze dag staat Stavoren helemaal in het teken van Skûtsjesilen. Deze dag trekt veel bekijks en daardoor verwachte wij een drukke gezellige dag bij ons op het terras en in het café. \nTijdens deze dag hebben wij een aangepaste menukaart\, u kunt een tafel reserveren. Reserveer op tijd want vol=vol.\nBij een feestelijke dag hoort natuurlijk ook muziek. Overdag kunnen we genieten op het terras met one man band Robert Harms en in de avonduren gaan we los met Hayfever.  \nWij hebben er zin in\, graag tot dan!
URL:https://deschans-stavoren.nl/event/skutsjesilen-stavoren/
END:VEVENT
BEGIN:VEVENT
DTSTART;TZID=UTC:20250322T210000
DTEND;TZID=UTC:20250323T010000
DTSTAMP:20260423T042343
CREATED:20240922T165304Z
LAST-MODIFIED:20250218T094935Z
UID:1053-1742677200-1742691600@deschans-stavoren.nl
SUMMARY:Live muziek: Endorfine
DESCRIPTION:Zaterdag 22 maart kunnen de voetjes weer van de vloer.🕺 Wij hebben dan de coverband Endorfine weer bij ons op het podium staan! 🥳  \nDat wordt weer een groot feest! \n⚡️€10 entree vanaf 21:00 uur\n🏃 Kom op tijd VOL=VOL\n🍴 Keuken geopend van 17:00 tot 20:00\n⛔️ geen 18\, geen alcohol\n🐝Daar moet je bij zijn! \nZie je dan! 🤩
URL:https://deschans-stavoren.nl/event/live-muziek-dear-mister-fantasy/
END:VEVENT
BEGIN:VEVENT
DTSTART;TZID=UTC:20250802T160000
DTEND;TZID=UTC:20250803T020000
DTSTAMP:20260423T042343
CREATED:20250707T180715Z
LAST-MODIFIED:20250707T180715Z
UID:1251-1754150400-1754186400@deschans-stavoren.nl
SUMMARY:SKS Stavoren
DESCRIPTION:Zaterdag 2 augustus Skûtsjesilen Stavoren. \nOp deze dag staat Stavoren helemaal in het teken van Skûtsjesilen. Deze dag trekt veel bekijks en daardoor verwachte wij een drukke gezellige dag bij ons op het terras en in het café. \nTijdens deze dag hebben wij een aangepaste menukaart\, u kunt een tafel reserveren. Reserveer op tijd want vol=vol.\nBij een feestelijke dag hoort natuurlijk ook muziek. Overdag kunnen we genieten op het terras met one man band Robert Harms en in de avonduren gaan we los met Hayfever.  \nWij hebben er zin in\, graag tot dan!
URL:https://deschans-stavoren.nl/event/sks-stavoren/
END:VEVENT
BEGIN:VEVENT
DTSTART;TZID=UTC:20251129T200000
DTEND;TZID=UTC:20251129T200000
DTSTAMP:20260423T042343
CREATED:20251023T092950Z
LAST-MODIFIED:20251023T093334Z
UID:1338-1764446400-1764446400@deschans-stavoren.nl
SUMMARY:Besloten feest
DESCRIPTION:Lieve gasten\, \nOp zaterdag 29 november hebben wij een besloten feest in ons restaurant.\nDaarom sluiten wij die avond om 20:00 uur. \nWilt u die avond gezellig bij ons komen eten?\nDat kan zeker! U bent van harte welkom om tussen 17:00 en 18:30 uur te reserveren voor het diner.\nWe vragen u vriendelijk om uw bezoek voor 20:00 uur af te ronden\, zodat wij alles kunnen klaarmaken voor het feest. \nHartelijk dank voor uw begrip en graag tot snel! 💛
URL:https://deschans-stavoren.nl/event/besloten-feest/
END:VEVENT
BEGIN:VEVENT
DTSTART;TZID=UTC:20251226T173000
DTEND;TZID=UTC:20251226T173000
DTSTAMP:20260423T042343
CREATED:20251109T095809Z
LAST-MODIFIED:20251109T100109Z
UID:1350-1766770200-1766770200@deschans-stavoren.nl
SUMMARY:4-gangen verrassingskerstmenu
DESCRIPTION:✨ Vier Tweede Kerstdag bij ons! ✨ \nKom op Tweede Kerstdag gezellig genieten van een feestelijk 4-gangen verrassingskerstmenu. Laat je verwennen door bekende én verrassende gerechten\, allemaal in een feestelijk kerstjasje. \nOf je nu met familie\, vrienden of je geliefde komt — wij zorgen voor een onvergetelijke avond vol heerlijke gerechten\, een warme sfeer en echte kerstgezelligheid. \n💫 4-gangen verrassingskerstmenu – €49\,50 p.p.\nSpeciaal voor de feestdagen heeft ons team een bijzonder menu samengesteld\, met een heerlijke mix van vertrouwde favorieten en verrassende nieuwe gerechten\, feestelijk gepresenteerd in een kerstjasje. \n🍷 Met of zonder wijnarrangement\nMaak je diner compleet met een zorgvuldig samengesteld wijnarrangement voor €25\,50 p.p.\, waarbij elke gang wordt begeleid door een passende wijn. Uiteraard is het menu ook zonder wijnarrangement te bestellen. \n🌿 Dieetwensen & allergieën\nHeb je speciale dieetwensen of een allergie? Geen probleem — geef het even door bij je reservering\, dan houdt onze keukenbrigade daar graag rekening mee. \n👧 Kinderen zijn van harte welkom\nOok de jongste gasten kunnen meegenieten met een speciaal kindermenu die zelf kunnen samenstellen\, helemaal in kerstsfeer. \n🕠 Ontvangst\nTussen 17:30 en 18:00 uur ben je van harte welkom. We maken er samen een heerlijke\, sfeervolle kerstavond van. \n💫 4-gangenmenu €49\,50 p.p.\n🍷 Wijnarrangement €25\,50 p.p.\n🌿 Dieetwensen of allergieën? Geen probleem!\n👧 Speciaal kindermenu voor de kleine gasten. \n🕠 Ontvangst tussen 17:30 en 18:00 uur. \n✨ Reserveer snel je tafel en beleef een onvergetelijke Tweede Kerstdag bij ons! ✨
URL:https://deschans-stavoren.nl/event/tweede-kerstdag/
END:VEVENT
END:VCALENDAR