BEGIN:VCALENDAR
VERSION:2.0
PRODID:-//Grand café de Schans - ECPv6.15.13.1//NONSGML v1.0//EN
CALSCALE:GREGORIAN
METHOD:PUBLISH
X-WR-CALNAME:Grand café de Schans
X-ORIGINAL-URL:https://deschans-stavoren.nl
X-WR-CALDESC:Evenementen voor Grand café de Schans
REFRESH-INTERVAL;VALUE=DURATION:PT1H
X-Robots-Tag:noindex
X-PUBLISHED-TTL:PT1H
BEGIN:VTIMEZONE
TZID:UTC
BEGIN:STANDARD
TZOFFSETFROM:+0000
TZOFFSETTO:+0000
TZNAME:UTC
DTSTART:20220101T000000
END:STANDARD
END:VTIMEZONE
BEGIN:VEVENT
DTSTART;TZID=UTC:20250222T180000
DTEND;TZID=UTC:20250223T020000
DTSTAMP:20260423T072232
CREATED:20250110T092052Z
LAST-MODIFIED:20250110T092052Z
UID:1089-1740247200-1740276000@deschans-stavoren.nl
SUMMARY:Foute podium party
DESCRIPTION:Foute podium party😍🎉 \nHeb jij een mooi\, grappig\, geweldig of uniek talent en wil je dit graag laten zien op het podium?\nKom dan naar de foute podium party! 🎤 \nPlankenkoorts? Maar je hebt wel de foutste outfit in de kast hangen?\nKom dan naar de foute podium party!👑 \nDJ Tropical zorgt voor de foute hits jij voor de foute moves. 🕺 \n⚡️Entree aan de deur €10\,-\n🔖Voorverkoop € 7\,50\n🔥Gratis toegang wanneer je deel neemt aan het foute podium of als je voor 20:00 uur binnen bent\n🎁Cadeautje als je in je foute outfit komt\n🏆Win waanzinnige prijzen met je foute outfit of je foute act\n💌Meedoen aan het foute podium kan door een DM te sturen\, opgeven kan op de avond zelf ook nog\n🍴 Keuken geopend van 18:00 tot 20:00\n⛔️ geen 18\, geen alcohol\n🐝Daar moet je bij zijn! \nTot dan!
URL:https://deschans-stavoren.nl/event/foute-podium-party/
END:VEVENT
BEGIN:VEVENT
DTSTART;VALUE=DATE:20241225
DTEND;VALUE=DATE:20241227
DTSTAMP:20260423T072232
CREATED:20231206T113340Z
LAST-MODIFIED:20241218T084412Z
UID:907-1735084800-1735257599@deschans-stavoren.nl
SUMMARY:Kerst bij de Schans
DESCRIPTION:Op eerste – en tweede kerstdag kan je bij ons komen genieten met familie\, vrienden\, geliefde of alleen van een feestelijk en uitgebreid kerstbuffet. \nVoor de kleine gasten hebben we een kidsmenukaart vanaf 17:00uur. \nWe hebben ook gedacht aan de alleenstaande onder ons. Speciaal op eerste kerstdag hebben we de aanschuiftafel. Zo wordt Kerstmis een gezellig samenzijn onder het genot van lekker eten en een drankje. \nReserveren kan alleen tussen 17:00 en 18:00 uur. De prijs voor het buffet is €45\,- p.p. \nWilt u in de reservering vermelden of er kinderen in het gezelschap zijn en eventuele dieetwensen en/of allergieen. En of u bij de aanschuiftafel wilt aanschuiven.  \nWij hebben deze avond alleen een het kerstbuffet.  \nWij zijn die dag geopend vanaf 17:00 uur\nU kunt een tafel reserveren tussen 17:00 en 18:00 uur.  \nReserveer op tijd\, vol=vol.  \nGraag tot ziens bij de Schans!
URL:https://deschans-stavoren.nl/event/kerst-bij-de-schans/
END:VEVENT
BEGIN:VEVENT
DTSTART;VALUE=DATE:20240608
DTEND;VALUE=DATE:20240609
DTSTAMP:20260423T072232
CREATED:20240606T153326Z
LAST-MODIFIED:20240606T153326Z
UID:988-1717804800-1717891199@deschans-stavoren.nl
SUMMARY:de Survival van Stavoren
DESCRIPTION:We gaan weer survivallen! 💃\nZaterdag 8 juni vind bij ons de start\, finish\, uitslag en afterparty van @survival_van_stavoren plaats.🕺 En daar hoort natuurlijk muziek bij. Tijdens de afterparty hebben wij @69comeback.nl op het podium staan! 🥳 Dat word weer een groot feest! \n⚡️€7\,50 entree vanaf 21:00 uur(deelnemers van de survival mogen gratis naar binnen)\n🏃 Kom op tijd VOL=VOL\n🍴 Keuken geopend vanaf 12:00 uur; LET OP wij hebben deze dag een aangepaste kaart!\n⛔️ geen 18\, geen alcohol\n🐝Daar moet je bij zijn!\nZie je dan! 🤩
URL:https://deschans-stavoren.nl/event/de-survival-van-stavoren/
END:VEVENT
BEGIN:VEVENT
DTSTART;TZID=UTC:20231104T210000
DTEND;TZID=UTC:20231105T020000
DTSTAMP:20260423T072232
CREATED:20231012T125008Z
LAST-MODIFIED:20231012T125008Z
UID:894-1699131600-1699149600@deschans-stavoren.nl
SUMMARY:Foute party met livemuziek
DESCRIPTION:Zet het maar in je agenda! 💃\nZaterdag 4 november kunnen de foute outfits uit de kast getrokken worden.🕺 Samen met rock- en feestband Rauzer\ngaan we het beste foutste feestje ooit maken! 🥳\n🍻 vanaf 21:00 uur\n🎁 bij binnenkomst krijg je van ons een cadeautje als je in je foute outfit komt\n🏆 win waanzinnige prijzen met je foute outfit\, hoofdprijs dinerbon van €75\,-\n🎶 live muziek van rock- en feestband @rauzerband\n🗓 zaterdag 4 november geopend van 17:00 tot 02:00\n🍽 keuken geopend van 17:00 tot 20:00\n⛔️ geen 18\, geen alcohol. Geen idkaart\, geen toegang.\n📢 voor 21:00 uur gratis entree\, na 21:00 uur 7\,50 entree.\nZie je dan! 🤩
URL:https://deschans-stavoren.nl/event/foute-party-met-livemuziek/
END:VEVENT
BEGIN:VEVENT
DTSTART;TZID=UTC:20230812T220000
DTEND;TZID=UTC:20230813T010000
DTSTAMP:20260423T072232
CREATED:20230704T123726Z
LAST-MODIFIED:20230704T123726Z
UID:834-1691877600-1691888400@deschans-stavoren.nl
SUMMARY:Live muziek: Hayfever
DESCRIPTION:Hayfever is dé Rock & Roll en Sixties band van Nederland!\nHet drietal brengt een ode aan de swingende jaren ’50 Rock&Roll en hippe jaren ’60 beat muziek.\n​Van Memphis Tennessee tot Liverpool!\nDit zorgt voor een gevarieerd repertoire waarbij de grootste hits worden gespeeld die herkenbaar zijn voor iedereen.\nLiedjes van Elvis Presley\, Chuck Berry\, The Beatles\, The Rolling Stones\, CCR en nog veel meer passeren de revue.
URL:https://deschans-stavoren.nl/event/live-muziek-hayfever/
END:VEVENT
BEGIN:VEVENT
DTSTART;TZID=UTC:20230812T160000
DTEND;TZID=UTC:20230812T190000
DTSTAMP:20260423T072232
CREATED:20230704T123359Z
LAST-MODIFIED:20230704T123359Z
UID:831-1691856000-1691866800@deschans-stavoren.nl
SUMMARY:Live muziek: Rintje Kas
DESCRIPTION:Live bij ons op het terras!  \nBepakt en bezakt met gitaar\, stem en een lekkere bassdrum klinkt het of er een complete band staat te spelen. Alles is puur en live en recht voor z’n raap. \nActief met het publiek en geen setlijsten. Daarom is geen optreden gelijk! \nAls voorman van de bekende feestband LAYS is hij een veelgeziene gast op menig feest. Met z’n zeer breed repertoire is hij overal inzetbaar en zet hij in een mum van tijd een zaal op z’n kop. Smartlappen\, achtergrond\, goud van oud\, rock ’n roll\, top 40… niets is deze Troubadour te gek!
URL:https://deschans-stavoren.nl/event/live-muziek-rintje-kas/
END:VEVENT
BEGIN:VEVENT
DTSTART;TZID=UTC:20230610T210000
DTEND;TZID=UTC:20230610T210000
DTSTAMP:20260423T072232
CREATED:20230509T071643Z
LAST-MODIFIED:20230509T071643Z
UID:804-1686430800-1686430800@deschans-stavoren.nl
SUMMARY:Live muziek mr. Boombastic band
DESCRIPTION:Mr. Boombastic is een band bestaande uit een viertal gedreven muzikanten. Met veel enthousiasme brengen zij een eigenzinnige sound ten gehore. Het repertoire van de band bestaat voornamelijk uit covers. Dat wordt weer een feest!  \nZaterdag 10 juni is de survival van Stavoren en aansluitend hebben wij de uitslag en live muziek bij ons in het café. Opgeven voor de survival kan via hylkjeblaauw@hotmail.com.  \nTot dan!!
URL:https://deschans-stavoren.nl/event/live-muziek-mr-boombastic-band/
END:VEVENT
BEGIN:VEVENT
DTSTART;TZID=UTC:20230429T210000
DTEND;TZID=UTC:20230429T210000
DTSTAMP:20260423T072232
CREATED:20230413T132325Z
LAST-MODIFIED:20230413T132657Z
UID:782-1682802000-1682802000@deschans-stavoren.nl
SUMMARY:LIVE MUZIEK: ENDORFINE
DESCRIPTION:Verkorte biografie van Endorfine – Coverband uit Friesland \nEndorfine is een veelzijdige rock coverband uit Friesland die garant staat voor een spetterend optreden. Met een repertoire vol pittige nummers uit de top2000\, aangevuld met een mooie ballad hier en daar\, weet deze band altijd de juiste snaar te raken. \nGeschiedenis van Endorfine\nEndorfine is opgericht in 2020 en bestaat uit vijf enthousiaste muzikanten met een passie voor rockmuziek. Ondanks dat ze als band nog relatief nieuw zijn\, hebben ze al verschillende optredens verzorgd op tientallen podia door heel Friesland. \nRepertoire\nHet repertoire van Endorfine bestaat voornamelijk uit pittige nummers uit de top2000\, aangevuld met een mooie ballad hier en daar. Hierbij kunt u denken aan bekende hits van bands als Bon Jovi\, Bruce Springsteen en AC/DC\, maar ook minder bekende nummers van bijvoorbeeld Foo Fighters en Beth Hart. Met deze veelzijdige mix weet Endorfine altijd het publiek te vermaken.
URL:https://deschans-stavoren.nl/event/live-muziek-endorfine/
END:VEVENT
END:VCALENDAR