BEGIN:VCALENDAR
VERSION:2.0
PRODID:-//Grand café de Schans - ECPv6.15.13.1//NONSGML v1.0//EN
CALSCALE:GREGORIAN
METHOD:PUBLISH
X-WR-CALNAME:Grand café de Schans
X-ORIGINAL-URL:https://deschans-stavoren.nl
X-WR-CALDESC:Evenementen voor Grand café de Schans
REFRESH-INTERVAL;VALUE=DURATION:PT1H
X-Robots-Tag:noindex
X-PUBLISHED-TTL:PT1H
BEGIN:VTIMEZONE
TZID:UTC
BEGIN:STANDARD
TZOFFSETFROM:+0000
TZOFFSETTO:+0000
TZNAME:UTC
DTSTART:20240101T000000
END:STANDARD
END:VTIMEZONE
BEGIN:VEVENT
DTSTART;TZID=UTC:20250208T160000
DTEND;TZID=UTC:20250308T020000
DTSTAMP:20260423T054239
CREATED:20240719T092418Z
LAST-MODIFIED:20250707T180455Z
UID:1025-1739030400-1741399200@deschans-stavoren.nl
SUMMARY:Skutsjesilen Stavoren
DESCRIPTION:Zaterdag 2 augustus Skûtsjesilen Stavoren. \nOp deze dag staat Stavoren helemaal in het teken van Skûtsjesilen. Deze dag trekt veel bekijks en daardoor verwachte wij een drukke gezellige dag bij ons op het terras en in het café. \nTijdens deze dag hebben wij een aangepaste menukaart\, u kunt een tafel reserveren. Reserveer op tijd want vol=vol.\nBij een feestelijke dag hoort natuurlijk ook muziek. Overdag kunnen we genieten op het terras met one man band Robert Harms en in de avonduren gaan we los met Hayfever.  \nWij hebben er zin in\, graag tot dan!
URL:https://deschans-stavoren.nl/event/skutsjesilen-stavoren/
END:VEVENT
END:VCALENDAR